BEGIN:VCALENDAR
VERSION:2.0
PRODID:-//Tukios.com/
BEGIN:VEVENT
UID:d606cabd-e68b-4097-b3cb-eeadcbb2cb56@www.auclairfuneralhome.com
DTSTAMP:20260423T001345Z
DTSTART:20260424T190000Z
DTEND:20260424T220000Z
SUMMARY:Visitation
DESCRIPTION:
URL:https://www.auclairfuneralhome.com/obituaries/veronica-mello
LOCATION:Auclair Funeral Home 690 South Main Street  Fall River MA 02721
GEO:41.6948671;-71.1633656
END:VEVENT
END:VCALENDAR