BEGIN:VCALENDAR
VERSION:2.0
PRODID:-//Tukios.com/
BEGIN:VEVENT
UID:5df08a64-5b7c-4004-aa7d-7243dbf901cf@www.auclairfuneralhome.com
DTSTAMP:20260422T222658Z
DTSTART:20260430
SUMMARY:Burial
DESCRIPTION:
URL:https://www.auclairfuneralhome.com/obituaries/robert-beaupre
LOCATION:Beach Grove Cemetery 947 Main Road  WESTPORT MA 02790
GEO:41.5723611;-71.0913024
END:VEVENT
END:VCALENDAR