BEGIN:VCALENDAR
VERSION:2.0
PRODID:-//Tukios.com/
BEGIN:VEVENT
UID:0cc9c2af-68d6-4ec0-856d-7a45ef24a936@www.auclairfuneralhome.com
DTSTAMP:20260422T222723Z
DTSTART:20260430T150000Z
DTEND:20260430T160000Z
SUMMARY:Funeral Service
DESCRIPTION:
URL:https://www.auclairfuneralhome.com/obituaries/robert-beaupre
LOCATION:Auclair Funeral Home 690 South Main Street  Fall River MA 02721
GEO:41.6948671;-71.1633656
END:VEVENT
END:VCALENDAR