BEGIN:VCALENDAR
VERSION:2.0
PRODID:-//Tukios.com/
BEGIN:VEVENT
UID:2f5ba130-4a74-4e46-bc82-f93e9df3280b@www.auclairfuneralhome.com
DTSTAMP:20260422T222636Z
DTSTART:20260429T200000Z
DTEND:20260429T230000Z
SUMMARY:Visitation
DESCRIPTION:
URL:https://www.auclairfuneralhome.com/obituaries/robert-beaupre
LOCATION:Auclair Funeral Home 690 South Main Street  Fall River MA 02721
GEO:41.6948671;-71.1633656
END:VEVENT
END:VCALENDAR