BEGIN:VCALENDAR
VERSION:2.0
PRODID:-//Tukios.com/
BEGIN:VEVENT
UID:617f1bfe-f476-44c6-b41c-aa1c5ec01c12@www.auclairfuneralhome.com
DTSTAMP:20260425T215751Z
DTSTART:20260429T150000Z
DTEND:20260429T160000Z
SUMMARY:Funeral Mass
DESCRIPTION:
URL:https://www.auclairfuneralhome.com/obituaries/eva-oliveira-charette
LOCATION: 1335 North Main Street  Fall River MA 02720
GEO:41.718713;-71.1479208
END:VEVENT
END:VCALENDAR