BEGIN:VCALENDAR
VERSION:2.0
PRODID:-//Tukios.com/
BEGIN:VEVENT
UID:cd249d56-185e-4a20-a2e6-9919a2157d52@www.auclairfuneralhome.com
DTSTAMP:20260425T220356Z
DTSTART:20260429T130000Z
DTEND:20260429T143000Z
SUMMARY:Visitation
DESCRIPTION:
URL:https://www.auclairfuneralhome.com/obituaries/eva-oliveira-charette
LOCATION: 690 South Main Street  Fall River MA 02721
GEO:41.6948671;-71.1633656
END:VEVENT
END:VCALENDAR